BEGIN:VCALENDAR
VERSION:2.0
PRODID:-//Casgiu Casanu - ECPv6.15.20//NONSGML v1.0//EN
CALSCALE:GREGORIAN
METHOD:PUBLISH
X-ORIGINAL-URL:https://www.casgiucasanu.fr
X-WR-CALDESC:Évènements pour Casgiu Casanu
REFRESH-INTERVAL;VALUE=DURATION:PT1H
X-Robots-Tag:noindex
X-PUBLISHED-TTL:PT1H
BEGIN:VTIMEZONE
TZID:Europe/Paris
BEGIN:DAYLIGHT
TZOFFSETFROM:+0100
TZOFFSETTO:+0200
TZNAME:CEST
DTSTART:20230326T010000
END:DAYLIGHT
BEGIN:STANDARD
TZOFFSETFROM:+0200
TZOFFSETTO:+0100
TZNAME:CET
DTSTART:20231029T010000
END:STANDARD
BEGIN:DAYLIGHT
TZOFFSETFROM:+0100
TZOFFSETTO:+0200
TZNAME:CEST
DTSTART:20240331T010000
END:DAYLIGHT
BEGIN:STANDARD
TZOFFSETFROM:+0200
TZOFFSETTO:+0100
TZNAME:CET
DTSTART:20241027T010000
END:STANDARD
BEGIN:DAYLIGHT
TZOFFSETFROM:+0100
TZOFFSETTO:+0200
TZNAME:CEST
DTSTART:20250330T010000
END:DAYLIGHT
BEGIN:STANDARD
TZOFFSETFROM:+0200
TZOFFSETTO:+0100
TZNAME:CET
DTSTART:20251026T010000
END:STANDARD
END:VTIMEZONE
BEGIN:VEVENT
DTSTART;TZID=Europe/Paris:20240220T090000
DTEND;TZID=Europe/Paris:20240220T170000
DTSTAMP:20260423T184620
CREATED:20240130T152003Z
LAST-MODIFIED:20240625T080138Z
UID:1837-1708419600-1708448400@www.casgiucasanu.fr
SUMMARY:Biosécurité en élevage de volaille
DESCRIPTION:En Corse\, le développement d’ateliers de productions avicoles en diversification est un phénomène qui a pris récemment\nde l’ampleur. Nombreux agriculteurs paysans proposent\, en plus de leurs productions habituelles\, la vente d’œufs ou de\npoulets de chair. La méconnaissance du contexte réglementaire et sanitaire est généralisée et les institutions en charge du\nsecteur n’ont pas de moyens d’accompagnement alloués à cette filière naissante si ce n’est le contrôle coercitif des élevages.\nDans ce cadre\, le contexte sanitaire des activités d’élevage et des filières avicoles en particulier (influenza aviaire) a placé la\nbiosécurité des élevages au centre des préoccupations et des enjeux. Depuis\, (arrêté du 8 février 2016 « biosécurité ») définit\nles obligations des éleveurs de volailles. Il leur est notamment imposé d’adopter des pratiques spécifiques de prévention et\nd’élaborer un plan de biosécurité. La crise aviaire de l’hiver 2021-2022 met cette problématique au premier plan\,\nnotamment en corse où l’absence de filière industrielle permet de limiter les risques sanitaires d’ampleur\, si tant est qu’un minimum de précautions est mis en place dans chacun des élevages. \nDonc si vous souhaitez réaliser cette formation afin de mettre en place des choix pertinents au regard des pratiques de biosécurités existantes\, c’est ici : \nFiche programme \nBulletin d’inscription
URL:https://www.casgiucasanu.fr/formation/biosecurite-en-elevage-de-volaille-2/
LOCATION:Casgiu Casanu\, Casa Sebbiaghja\, RIVENTOSA\, 20250\, France
CATEGORIES:Formation
END:VEVENT
BEGIN:VEVENT
DTSTART;TZID=Europe/Paris:20240220T090000
DTEND;TZID=Europe/Paris:20240220T170000
DTSTAMP:20260423T184620
CREATED:20241031T081218Z
LAST-MODIFIED:20241031T081218Z
UID:1945-1708419600-1708448400@www.casgiucasanu.fr
SUMMARY:Biosécurité en élevage de volaille -copie
DESCRIPTION:En Corse\, le développement d’ateliers de productions avicoles en diversification est un phénomène qui a pris récemment\nde l’ampleur. Nombreux agriculteurs paysans proposent\, en plus de leurs productions habituelles\, la vente d’œufs ou de\npoulets de chair. La méconnaissance du contexte réglementaire et sanitaire est généralisée et les institutions en charge du\nsecteur n’ont pas de moyens d’accompagnement alloués à cette filière naissante si ce n’est le contrôle coercitif des élevages.\nDans ce cadre\, le contexte sanitaire des activités d’élevage et des filières avicoles en particulier (influenza aviaire) a placé la\nbiosécurité des élevages au centre des préoccupations et des enjeux. Depuis\, (arrêté du 8 février 2016 « biosécurité ») définit\nles obligations des éleveurs de volailles. Il leur est notamment imposé d’adopter des pratiques spécifiques de prévention et\nd’élaborer un plan de biosécurité. La crise aviaire de l’hiver 2021-2022 met cette problématique au premier plan\,\nnotamment en corse où l’absence de filière industrielle permet de limiter les risques sanitaires d’ampleur\, si tant est qu’un minimum de précautions est mis en place dans chacun des élevages. \nDonc si vous souhaitez réaliser cette formation afin de mettre en place des choix pertinents au regard des pratiques de biosécurités existantes\, c’est ici : \nFiche programme \nBulletin d’inscription
URL:https://www.casgiucasanu.fr/formation/biosecurite-en-elevage-de-volaille-copie/
LOCATION:Casgiu Casanu\, Casa Sebbiaghja\, RIVENTOSA\, 20250\, France
CATEGORIES:Formation
END:VEVENT
END:VCALENDAR