BEGIN:VCALENDAR
VERSION:2.0
PRODID:-//Casgiu Casanu - ECPv6.15.20//NONSGML v1.0//EN
CALSCALE:GREGORIAN
METHOD:PUBLISH
X-ORIGINAL-URL:https://www.casgiucasanu.fr
X-WR-CALDESC:Évènements pour Casgiu Casanu
REFRESH-INTERVAL;VALUE=DURATION:PT1H
X-Robots-Tag:noindex
X-PUBLISHED-TTL:PT1H
BEGIN:VTIMEZONE
TZID:Europe/Paris
BEGIN:DAYLIGHT
TZOFFSETFROM:+0100
TZOFFSETTO:+0200
TZNAME:CEST
DTSTART:20230326T010000
END:DAYLIGHT
BEGIN:STANDARD
TZOFFSETFROM:+0200
TZOFFSETTO:+0100
TZNAME:CET
DTSTART:20231029T010000
END:STANDARD
BEGIN:DAYLIGHT
TZOFFSETFROM:+0100
TZOFFSETTO:+0200
TZNAME:CEST
DTSTART:20240331T010000
END:DAYLIGHT
BEGIN:STANDARD
TZOFFSETFROM:+0200
TZOFFSETTO:+0100
TZNAME:CET
DTSTART:20241027T010000
END:STANDARD
BEGIN:DAYLIGHT
TZOFFSETFROM:+0100
TZOFFSETTO:+0200
TZNAME:CEST
DTSTART:20250330T010000
END:DAYLIGHT
BEGIN:STANDARD
TZOFFSETFROM:+0200
TZOFFSETTO:+0100
TZNAME:CET
DTSTART:20251026T010000
END:STANDARD
END:VTIMEZONE
BEGIN:VEVENT
DTSTART;TZID=Europe/Paris:20240611T090000
DTEND;TZID=Europe/Paris:20240611T170000
DTSTAMP:20260423T103849
CREATED:20240530T124349Z
LAST-MODIFIED:20240625T075719Z
UID:1896-1718096400-1718125200@www.casgiucasanu.fr
SUMMARY:FORMATION : Défauts\, accidents et actions correctives en fabrication et affinage
DESCRIPTION:La formation porte sur les accidents et les défauts de fabrication et d’affinage ainsi que sur les actions correctives à mettre\nen œuvre pour contrôler la fabrication et/ou l’affinage. Cette formation a pour but d’améliorer les compétences techniques et théoriques des producteurs fermiers en Corse\, dans un contexte de perfectionnement\, de maîtrise et/ou de diversification de leur production.\nObjectifs :\n• Appréhender et maîtriser les paramètres technologiques.\n• Prévenir\, comprendre et résoudre des accidents et défauts de fabrication et d’affinage.\n• Mettre en place des actions correctives.\n\n  \nVous avez des problèmes de fabrication et d’affinage dans vos fromageries ? Des fromages qui gonflent\, du “poil de chat” qui se développe ou encore des trous dans vos fromages ? \nProfitez de cette formation pour venir échanger et en apprendre plus sur les différents accidents en fromagerie fermière. \n\nTélécharger le programme ici ! \nInscrivez-vous ici !
URL:https://www.casgiucasanu.fr/formation/formation-defauts-accidents-et-actions-correctives-en-fabrication-et-affinage-copie/
LOCATION:Station expérimentale d’ALTIANI-ODARC\, Pont d'Altiani\, Altiani\, Corse\, 20251\, France
CATEGORIES:Formation
ATTACH;FMTTYPE=image/png:https://www.casgiucasanu.fr/wp-content/uploads/2024/03/Mucor.png
END:VEVENT
END:VCALENDAR